BEGIN:VCALENDAR
VERSION:2.0
PRODID:-//Constructive Alps - ECPv5.5.0.1//NONSGML v1.0//EN
CALSCALE:GREGORIAN
METHOD:PUBLISH
X-WR-CALNAME:Constructive Alps
X-ORIGINAL-URL:https://www.constructivealps.net
X-WR-CALDESC:Etappen am Constructive Alps
BEGIN:VTIMEZONE
TZID:Europe/Berlin
BEGIN:DAYLIGHT
TZOFFSETFROM:+0100
TZOFFSETTO:+0200
TZNAME:CEST
DTSTART:20180325T010000
END:DAYLIGHT
BEGIN:STANDARD
TZOFFSETFROM:+0200
TZOFFSETTO:+0100
TZNAME:CET
DTSTART:20181028T010000
END:STANDARD
END:VTIMEZONE
BEGIN:VEVENT
DTSTART;VALUE=DATE:20180710
DTEND;VALUE=DATE:20180901
DTSTAMP:20260425T162224
CREATED:20191018T122305Z
LAST-MODIFIED:20191018T122305Z
UID:2669-1531180800-1535759999@www.constructivealps.net
SUMMARY:Altes Walserhaus bei Kirche in Brand\, Vorarlberg/AT
DESCRIPTION:
URL:https://www.constructivealps.net/event/altes-walserhaus-bei-kirche-in-brand-vorarlberg-at/
LOCATION:Walserensemble Brand\, Gufer 1/1\, Brand bei Bludenz\, 6708\, Österreich
ATTACH;FMTTYPE=image/jpeg:https://www.constructivealps.net/wp-content/uploads/2019/10/brandnertal-walser-ensemble-brand.jpg
END:VEVENT
END:VCALENDAR