BEGIN:VCALENDAR
VERSION:2.0
PRODID:-//Constructive Alps - ECPv5.5.0.1//NONSGML v1.0//EN
CALSCALE:GREGORIAN
METHOD:PUBLISH
X-WR-CALNAME:Constructive Alps
X-ORIGINAL-URL:https://www.constructivealps.net
X-WR-CALDESC:Etappen am Constructive Alps
BEGIN:VTIMEZONE
TZID:Europe/Berlin
BEGIN:DAYLIGHT
TZOFFSETFROM:+0100
TZOFFSETTO:+0200
TZNAME:CEST
DTSTART:20230326T010000
END:DAYLIGHT
BEGIN:STANDARD
TZOFFSETFROM:+0200
TZOFFSETTO:+0100
TZNAME:CET
DTSTART:20231029T010000
END:STANDARD
END:VTIMEZONE
BEGIN:VEVENT
DTSTART;VALUE=DATE:20230503
DTEND;VALUE=DATE:20230527
DTSTAMP:20260425T143617
CREATED:20230315T135326Z
LAST-MODIFIED:20230315T135444Z
UID:11691-1683072000-1685145599@www.constructivealps.net
SUMMARY:Campus Spittal FH Kärnten
DESCRIPTION:
URL:https://www.constructivealps.net/event/campus-spittal-fh-kaernten/
LOCATION:Campus Spittal\, FH Kärnten\, Villacher Str. 1\, Spittal an der Drau\, 9800\, Österreich
ATTACH;FMTTYPE=image/png:https://www.constructivealps.net/wp-content/uploads/2023/03/csm_campus-spittal_80f5566abd.png
END:VEVENT
END:VCALENDAR