BEGIN:VCALENDAR
VERSION:2.0
PRODID:-//Constructive Alps - ECPv5.5.0.1//NONSGML v1.0//EN
CALSCALE:GREGORIAN
METHOD:PUBLISH
X-WR-CALNAME:Constructive Alps
X-ORIGINAL-URL:https://www.constructivealps.net
X-WR-CALDESC:Etappen am Constructive Alps
BEGIN:VTIMEZONE
TZID:Europe/Berlin
BEGIN:DAYLIGHT
TZOFFSETFROM:+0100
TZOFFSETTO:+0200
TZNAME:CEST
DTSTART:20180325T010000
END:DAYLIGHT
BEGIN:STANDARD
TZOFFSETFROM:+0200
TZOFFSETTO:+0100
TZNAME:CET
DTSTART:20181028T010000
END:STANDARD
END:VTIMEZONE
BEGIN:VEVENT
DTSTART;VALUE=DATE:20180313
DTEND;VALUE=DATE:20180413
DTSTAMP:20260425T175119
CREATED:20191017T203014Z
LAST-MODIFIED:20191017T203432Z
UID:2557-1520899200-1523577599@www.constructivealps.net
SUMMARY:Museum of the Architecture and Design in Ljubljana/SL
DESCRIPTION:
URL:https://www.constructivealps.net/event/mao-sl/
LOCATION:MAO\, Rusjanov trg 7\, Ljubljana\, 1000\, Slovenien
ATTACH;FMTTYPE=image/jpeg:https://www.constructivealps.net/wp-content/uploads/2019/10/novica-283.jpg
END:VEVENT
END:VCALENDAR