BEGIN:VCALENDAR
VERSION:2.0
PRODID:-//Constructive Alps - ECPv5.5.0.1//NONSGML v1.0//EN
CALSCALE:GREGORIAN
METHOD:PUBLISH
X-WR-CALNAME:Constructive Alps
X-ORIGINAL-URL:https://www.constructivealps.net
X-WR-CALDESC:Etappen am Constructive Alps
BEGIN:VTIMEZONE
TZID:Europe/Berlin
BEGIN:DAYLIGHT
TZOFFSETFROM:+0100
TZOFFSETTO:+0200
TZNAME:CEST
DTSTART:20220327T010000
END:DAYLIGHT
BEGIN:STANDARD
TZOFFSETFROM:+0200
TZOFFSETTO:+0100
TZNAME:CET
DTSTART:20221030T010000
END:STANDARD
END:VTIMEZONE
BEGIN:VEVENT
DTSTART;VALUE=DATE:20220917
DTEND;VALUE=DATE:20221009
DTSTAMP:20260425T161742
CREATED:20220920T134052Z
LAST-MODIFIED:20221206T133401Z
UID:11335-1663372800-1665273599@www.constructivealps.net
SUMMARY:Peter-Kaiser-Platz\, Vaduz / LI
DESCRIPTION:
URL:https://www.constructivealps.net/event/peter-kaiser-platz-vaduz-li/
LOCATION:Peter-Kaiser-Platz\, Peter-Kaiser-Platz\, Vaduz\, 9490\, Liechtenstein
ATTACH;FMTTYPE=image/jpeg:https://www.constructivealps.net/wp-content/uploads/2022/09/CA22_Vaduz_Ausstellung.jpg
END:VEVENT
END:VCALENDAR