BEGIN:VCALENDAR
VERSION:2.0
PRODID:-//Constructive Alps - ECPv5.5.0.1//NONSGML v1.0//EN
CALSCALE:GREGORIAN
METHOD:PUBLISH
X-WR-CALNAME:Constructive Alps
X-ORIGINAL-URL:https://www.constructivealps.net
X-WR-CALDESC:Etappen am Constructive Alps
BEGIN:VTIMEZONE
TZID:Europe/Berlin
BEGIN:DAYLIGHT
TZOFFSETFROM:+0100
TZOFFSETTO:+0200
TZNAME:CEST
DTSTART:20210328T010000
END:DAYLIGHT
BEGIN:STANDARD
TZOFFSETFROM:+0200
TZOFFSETTO:+0100
TZNAME:CET
DTSTART:20211031T010000
END:STANDARD
END:VTIMEZONE
BEGIN:VEVENT
DTSTART;VALUE=DATE:20210629
DTEND;VALUE=DATE:20210831
DTSTAMP:20260425T143450
CREATED:20210624T061328Z
LAST-MODIFIED:20210624T061827Z
UID:8102-1624924800-1630367999@www.constructivealps.net
SUMMARY:St. Barbara Gallery\, Idrija/SI
DESCRIPTION:
URL:https://www.constructivealps.net/event/st-barbara-gallery-idrija-si/
ATTACH;FMTTYPE=image/jpeg:https://www.constructivealps.net/wp-content/uploads/2021/06/stbarbara_idrija.jpg
END:VEVENT
END:VCALENDAR