BEGIN:VCALENDAR
VERSION:2.0
PRODID:-//Constructive Alps - ECPv5.5.0.1//NONSGML v1.0//EN
CALSCALE:GREGORIAN
METHOD:PUBLISH
X-WR-CALNAME:Constructive Alps
X-ORIGINAL-URL:https://www.constructivealps.net/fr/
X-WR-CALDESC:Exposition du Constructive Alps
BEGIN:VTIMEZONE
TZID:Europe/Berlin
BEGIN:DAYLIGHT
TZOFFSETFROM:+0100
TZOFFSETTO:+0200
TZNAME:CEST
DTSTART:20180325T010000
END:DAYLIGHT
BEGIN:STANDARD
TZOFFSETFROM:+0200
TZOFFSETTO:+0100
TZNAME:CET
DTSTART:20181028T010000
END:STANDARD
END:VTIMEZONE
BEGIN:VEVENT
DTSTART;VALUE=DATE:20180907
DTEND;VALUE=DATE:20180929
DTSTAMP:20260425T150949
CREATED:20191018T125941Z
LAST-MODIFIED:20191018T125941Z
UID:2698-1536278400-1538179199@www.constructivealps.net
SUMMARY:Associazione ARS.UNI.VCO in Domodossola/IT
DESCRIPTION:
URL:https://www.constructivealps.net/fr/event/associazione-ars-uni-vco-in-domodossola-it/
LOCATION:Collegio Mellerio Rosmini\, Via Antonio Rosmini 24\, Domodossola\, Verbano\, 28845\, Italien
ATTACH;FMTTYPE=image/jpeg:https://www.constructivealps.net/wp-content/uploads/2019/10/Ausstelung-Domodossola_Halle1.jpg
END:VEVENT
END:VCALENDAR