BEGIN:VCALENDAR
VERSION:2.0
PRODID:-//Constructive Alps - ECPv5.5.0.1//NONSGML v1.0//EN
CALSCALE:GREGORIAN
METHOD:PUBLISH
X-WR-CALNAME:Constructive Alps
X-ORIGINAL-URL:https://www.constructivealps.net/fr/
X-WR-CALDESC:Exposition du Constructive Alps
BEGIN:VTIMEZONE
TZID:Europe/Berlin
BEGIN:DAYLIGHT
TZOFFSETFROM:+0100
TZOFFSETTO:+0200
TZNAME:CEST
DTSTART:20180325T010000
END:DAYLIGHT
BEGIN:STANDARD
TZOFFSETFROM:+0200
TZOFFSETTO:+0100
TZNAME:CET
DTSTART:20181028T010000
END:STANDARD
END:VTIMEZONE
BEGIN:VEVENT
DTSTART;VALUE=DATE:20180730
DTEND;VALUE=DATE:20180821
DTSTAMP:20260425T152748
CREATED:20191018T122836Z
LAST-MODIFIED:20191018T122836Z
UID:2676-1532908800-1534809599@www.constructivealps.net
SUMMARY:Ausstellung in der Gemeinde Nova Gorica/SL
DESCRIPTION:
URL:https://www.constructivealps.net/fr/event/ausstellung-in-der-gemeinde-nova-gorica-sl/
LOCATION:Mestna občina\, Trg Edvarda Kardelja 1\, Nova Gorica\, 5000\, Slovenien
ATTACH;FMTTYPE=image/jpeg:https://www.constructivealps.net/wp-content/uploads/2019/10/65535062.jpg
END:VEVENT
END:VCALENDAR