BEGIN:VCALENDAR
VERSION:2.0
PRODID:-//Constructive Alps - ECPv5.5.0.1//NONSGML v1.0//EN
CALSCALE:GREGORIAN
METHOD:PUBLISH
X-WR-CALNAME:Constructive Alps
X-ORIGINAL-URL:https://www.constructivealps.net/fr/
X-WR-CALDESC:Exposition du Constructive Alps
BEGIN:VTIMEZONE
TZID:Europe/Berlin
BEGIN:DAYLIGHT
TZOFFSETFROM:+0100
TZOFFSETTO:+0200
TZNAME:CEST
DTSTART:20180325T010000
END:DAYLIGHT
BEGIN:STANDARD
TZOFFSETFROM:+0200
TZOFFSETTO:+0100
TZNAME:CET
DTSTART:20181028T010000
END:STANDARD
END:VTIMEZONE
BEGIN:VEVENT
DTSTART;VALUE=DATE:20180902
DTEND;VALUE=DATE:20181022
DTSTAMP:20260425T152604
CREATED:20191018T130625Z
LAST-MODIFIED:20191018T130625Z
UID:2706-1535846400-1540166399@www.constructivealps.net
SUMMARY:Ausstellung in Teufen/CH
DESCRIPTION:
URL:https://www.constructivealps.net/fr/event/ausstellung-in-teufen-ch/
LOCATION:Zeughaus Teufen\, Zeughausplatz 1\, Teufen\, Appenzell/A\, 9053\, Schweiz
ATTACH;FMTTYPE=image/jpeg:https://www.constructivealps.net/wp-content/uploads/2019/10/ausstellunghinten-1500-1000x0-c-default.jpg
END:VEVENT
END:VCALENDAR