BEGIN:VCALENDAR
VERSION:2.0
PRODID:-//Constructive Alps - ECPv5.5.0.1//NONSGML v1.0//EN
CALSCALE:GREGORIAN
METHOD:PUBLISH
X-WR-CALNAME:Constructive Alps
X-ORIGINAL-URL:https://www.constructivealps.net/fr/
X-WR-CALDESC:Exposition du Constructive Alps
BEGIN:VTIMEZONE
TZID:Europe/Berlin
BEGIN:DAYLIGHT
TZOFFSETFROM:+0100
TZOFFSETTO:+0200
TZNAME:CEST
DTSTART:20180325T010000
END:DAYLIGHT
BEGIN:STANDARD
TZOFFSETFROM:+0200
TZOFFSETTO:+0100
TZNAME:CET
DTSTART:20181028T010000
END:STANDARD
END:VTIMEZONE
BEGIN:VEVENT
DTSTART;VALUE=DATE:20180328
DTEND;VALUE=DATE:20180516
DTSTAMP:20260425T184025
CREATED:20191018T102246Z
LAST-MODIFIED:20191018T102458Z
UID:2606-1522195200-1526428799@www.constructivealps.net
SUMMARY:Grünes Zentrum Immenstadt/DE
DESCRIPTION:
URL:https://www.constructivealps.net/fr/event/gruenes-zentrum-immenstadt-de/
LOCATION:Holzforum Allgäu e.V.\, Kemptener Straße 39\, Immenstadt\, Bayern\, 87509\, Deutschland
ATTACH;FMTTYPE=image/jpeg:https://www.constructivealps.net/wp-content/uploads/2019/10/grünes-zentrum-1.jpg
END:VEVENT
END:VCALENDAR