BEGIN:VCALENDAR
VERSION:2.0
PRODID:-//Constructive Alps - ECPv5.5.0.1//NONSGML v1.0//EN
CALSCALE:GREGORIAN
METHOD:PUBLISH
X-WR-CALNAME:Constructive Alps
X-ORIGINAL-URL:https://www.constructivealps.net/fr/
X-WR-CALDESC:Exposition du Constructive Alps
BEGIN:VTIMEZONE
TZID:Europe/Berlin
BEGIN:DAYLIGHT
TZOFFSETFROM:+0100
TZOFFSETTO:+0200
TZNAME:CEST
DTSTART:20180325T010000
END:DAYLIGHT
BEGIN:STANDARD
TZOFFSETFROM:+0200
TZOFFSETTO:+0100
TZNAME:CET
DTSTART:20181028T010000
END:STANDARD
END:VTIMEZONE
BEGIN:VEVENT
DTSTART;VALUE=DATE:20180806
DTEND;VALUE=DATE:20181001
DTSTAMP:20260425T150952
CREATED:20191018T124147Z
LAST-MODIFIED:20191018T124400Z
UID:2683-1533513600-1538351999@www.constructivealps.net
SUMMARY:Spazio Alpino in Airolo/CH
DESCRIPTION:
URL:https://www.constructivealps.net/fr/event/spazio-alpino-in-airolo-ch/
LOCATION:SPAZIO ALPINO\, Via della Stazione 45\, Airolo\, Tessin\, 6780\, Schweiz
ATTACH;FMTTYPE=image/jpeg:https://www.constructivealps.net/wp-content/uploads/2019/10/spazio-alpino.jpg
END:VEVENT
END:VCALENDAR