BEGIN:VCALENDAR
VERSION:2.0
PRODID:-//Constructive Alps - ECPv5.5.0.1//NONSGML v1.0//EN
CALSCALE:GREGORIAN
METHOD:PUBLISH
X-WR-CALNAME:Constructive Alps
X-ORIGINAL-URL:https://www.constructivealps.net/fr/
X-WR-CALDESC:Exposition du Constructive Alps
BEGIN:VTIMEZONE
TZID:Europe/Berlin
BEGIN:DAYLIGHT
TZOFFSETFROM:+0100
TZOFFSETTO:+0200
TZNAME:CEST
DTSTART:20180325T010000
END:DAYLIGHT
BEGIN:STANDARD
TZOFFSETFROM:+0200
TZOFFSETTO:+0100
TZNAME:CET
DTSTART:20181028T010000
END:STANDARD
END:VTIMEZONE
BEGIN:VEVENT
DTSTART;VALUE=DATE:20181005
DTEND;VALUE=DATE:20181030
DTSTAMP:20260425T150648
CREATED:20191018T132045Z
LAST-MODIFIED:20191018T132045Z
UID:2720-1538697600-1540857599@www.constructivealps.net
SUMMARY:Stadtbücherei Idrija/SL
DESCRIPTION:
URL:https://www.constructivealps.net/fr/event/stadtbuecherei-idrija-sl/
LOCATION:Stadtbücherei Idrija\, Ulica sv. Barbare 4-5\, Idrija\, 5280\, Slovenien
ATTACH;FMTTYPE=image/jpeg:https://www.constructivealps.net/wp-content/uploads/2019/10/idrija2-1.jpg
END:VEVENT
END:VCALENDAR