BEGIN:VCALENDAR
VERSION:2.0
PRODID:-//Constructive Alps - ECPv5.5.0.1//NONSGML v1.0//EN
CALSCALE:GREGORIAN
METHOD:PUBLISH
X-WR-CALNAME:Constructive Alps
X-ORIGINAL-URL:https://www.constructivealps.net/fr/
X-WR-CALDESC:Exposition du Constructive Alps
BEGIN:VTIMEZONE
TZID:Europe/Berlin
BEGIN:DAYLIGHT
TZOFFSETFROM:+0100
TZOFFSETTO:+0200
TZNAME:CEST
DTSTART:20220327T010000
END:DAYLIGHT
BEGIN:STANDARD
TZOFFSETFROM:+0200
TZOFFSETTO:+0100
TZNAME:CET
DTSTART:20221030T010000
END:STANDARD
END:VTIMEZONE
BEGIN:VEVENT
DTSTART;VALUE=DATE:20220315
DTEND;VALUE=DATE:20220405
DTSTAMP:20260425T150649
CREATED:20220323T082424Z
LAST-MODIFIED:20220323T082527Z
UID:9195-1647302400-1649116799@www.constructivealps.net
SUMMARY:Ciril Kosmač Library\, Tolmin/SI
DESCRIPTION:
URL:https://www.constructivealps.net/fr/exposition/ciril-kosmac-library-tolmin-si/
ATTACH;FMTTYPE=image/jpeg:https://www.constructivealps.net/wp-content/uploads/2020/06/AlpienBarnOFIScTOMAZ-GREGORIC-4.jpg
END:VEVENT
END:VCALENDAR