BEGIN:VCALENDAR
VERSION:2.0
PRODID:-//Constructive Alps - ECPv5.5.0.1//NONSGML v1.0//EN
CALSCALE:GREGORIAN
METHOD:PUBLISH
X-WR-CALNAME:Constructive Alps
X-ORIGINAL-URL:https://www.constructivealps.net/fr/
X-WR-CALDESC:Exposition du Constructive Alps
BEGIN:VTIMEZONE
TZID:Europe/Berlin
BEGIN:DAYLIGHT
TZOFFSETFROM:+0100
TZOFFSETTO:+0200
TZNAME:CEST
DTSTART:20210328T010000
END:DAYLIGHT
BEGIN:STANDARD
TZOFFSETFROM:+0200
TZOFFSETTO:+0100
TZNAME:CET
DTSTART:20211031T010000
END:STANDARD
END:VTIMEZONE
BEGIN:VEVENT
DTSTART;VALUE=DATE:20210605
DTEND;VALUE=DATE:20210716
DTSTAMP:20260425T151713
CREATED:20210616T130727Z
LAST-MODIFIED:20210616T130727Z
UID:8094-1622851200-1626393599@www.constructivealps.net
SUMMARY:i2a istituto internazionale di architettura\, Lugano/CH
DESCRIPTION:
URL:https://www.constructivealps.net/fr/exposition/i2a-istituto-internazionale-di-architettura-lugano-ch/
ATTACH;FMTTYPE=image/jpeg:https://www.constructivealps.net/wp-content/uploads/2021/06/i2a_quoVadisitalia.jpg
END:VEVENT
END:VCALENDAR