BEGIN:VCALENDAR
VERSION:2.0
PRODID:-//Constructive Alps - ECPv5.5.0.1//NONSGML v1.0//EN
CALSCALE:GREGORIAN
METHOD:PUBLISH
X-WR-CALNAME:Constructive Alps
X-ORIGINAL-URL:https://www.constructivealps.net/fr/
X-WR-CALDESC:Exposition du Constructive Alps
BEGIN:VTIMEZONE
TZID:Europe/Berlin
BEGIN:DAYLIGHT
TZOFFSETFROM:+0100
TZOFFSETTO:+0200
TZNAME:CEST
DTSTART:20210328T010000
END:DAYLIGHT
BEGIN:STANDARD
TZOFFSETFROM:+0200
TZOFFSETTO:+0100
TZNAME:CET
DTSTART:20211031T010000
END:STANDARD
END:VTIMEZONE
BEGIN:VEVENT
DTSTART;VALUE=DATE:20210601
DTEND;VALUE=DATE:20210629
DTSTAMP:20260425T171237
CREATED:20210624T061022Z
LAST-MODIFIED:20210624T061801Z
UID:8104-1622505600-1624924799@www.constructivealps.net
SUMMARY:Ministry of Culture\, Ljubljana/SI
DESCRIPTION:
URL:https://www.constructivealps.net/fr/exposition/ministry-of-culture-ljubljana-si/
ATTACH;FMTTYPE=image/jpeg:https://www.constructivealps.net/wp-content/uploads/2021/06/ministryljubljana.jpg
END:VEVENT
END:VCALENDAR