BEGIN:VCALENDAR
VERSION:2.0
PRODID:-//Constructive Alps - ECPv5.5.0.1//NONSGML v1.0//EN
CALSCALE:GREGORIAN
METHOD:PUBLISH
X-WR-CALNAME:Constructive Alps
X-ORIGINAL-URL:https://www.constructivealps.net/it/
X-WR-CALDESC:mostra del 
BEGIN:VTIMEZONE
TZID:Europe/Berlin
BEGIN:DAYLIGHT
TZOFFSETFROM:+0100
TZOFFSETTO:+0200
TZNAME:CEST
DTSTART:20180325T010000
END:DAYLIGHT
BEGIN:STANDARD
TZOFFSETFROM:+0200
TZOFFSETTO:+0100
TZNAME:CET
DTSTART:20181028T010000
END:STANDARD
END:VTIMEZONE
BEGIN:VEVENT
DTSTART;VALUE=DATE:20180207
DTEND;VALUE=DATE:20180415
DTSTAMP:20260425T150629
CREATED:20191017T161259Z
LAST-MODIFIED:20191017T162341Z
UID:2540-1517961600-1523750399@www.constructivealps.net
SUMMARY:i2a in Lugano/CH
DESCRIPTION:
URL:https://www.constructivealps.net/it/event/i2a-in-lugano-ch/
LOCATION:i2a Istituto Lugano\, Viale Stefano Franscini 9\, Lugano\, Tessin\, 6900\, Schweiz
ATTACH;FMTTYPE=image/jpeg:https://www.constructivealps.net/wp-content/uploads/2019/10/i2a_VillaSaroli_081_fotoVillada-1.jpg
END:VEVENT
END:VCALENDAR