BEGIN:VCALENDAR
VERSION:2.0
PRODID:-//Constructive Alps - ECPv5.5.0.1//NONSGML v1.0//EN
CALSCALE:GREGORIAN
METHOD:PUBLISH
X-WR-CALNAME:Constructive Alps
X-ORIGINAL-URL:https://www.constructivealps.net/it/
X-WR-CALDESC:mostra del 
BEGIN:VTIMEZONE
TZID:Europe/Berlin
BEGIN:DAYLIGHT
TZOFFSETFROM:+0100
TZOFFSETTO:+0200
TZNAME:CEST
DTSTART:20230326T010000
END:DAYLIGHT
BEGIN:STANDARD
TZOFFSETFROM:+0200
TZOFFSETTO:+0100
TZNAME:CET
DTSTART:20231029T010000
END:STANDARD
END:VTIMEZONE
BEGIN:VEVENT
DTSTART;VALUE=DATE:20231002
DTEND;VALUE=DATE:20231015
DTSTAMP:20260425T133252
CREATED:20230726T064558Z
LAST-MODIFIED:20230726T064558Z
UID:11732-1696204800-1697327999@www.constructivealps.net
SUMMARY:Mythen Center Schwyz
DESCRIPTION:
URL:https://www.constructivealps.net/it/event/mythen-center-schwyz/
LOCATION:Mythen Center Schwyz\, Mythen-Centerstrasse 15\, Ibach\, 6438\, Schweiz
ATTACH;FMTTYPE=image/jpeg:https://www.constructivealps.net/wp-content/uploads/2023/07/IMG_0854-scaled.jpg
END:VEVENT
END:VCALENDAR