BEGIN:VCALENDAR
VERSION:2.0
PRODID:-//Constructive Alps - ECPv5.5.0.1//NONSGML v1.0//EN
CALSCALE:GREGORIAN
METHOD:PUBLISH
X-WR-CALNAME:Constructive Alps
X-ORIGINAL-URL:https://www.constructivealps.net/it/
X-WR-CALDESC:mostra del 
BEGIN:VTIMEZONE
TZID:Europe/Berlin
BEGIN:DAYLIGHT
TZOFFSETFROM:+0100
TZOFFSETTO:+0200
TZNAME:CEST
DTSTART:20170326T010000
END:DAYLIGHT
BEGIN:STANDARD
TZOFFSETFROM:+0200
TZOFFSETTO:+0100
TZNAME:CET
DTSTART:20171029T010000
END:STANDARD
BEGIN:DAYLIGHT
TZOFFSETFROM:+0100
TZOFFSETTO:+0200
TZNAME:CEST
DTSTART:20180325T010000
END:DAYLIGHT
BEGIN:STANDARD
TZOFFSETFROM:+0200
TZOFFSETTO:+0100
TZNAME:CET
DTSTART:20181028T010000
END:STANDARD
END:VTIMEZONE
BEGIN:VEVENT
DTSTART;VALUE=DATE:20171205
DTEND;VALUE=DATE:20180331
DTSTAMP:20260425T150502
CREATED:20191002T105605Z
LAST-MODIFIED:20191017T112735Z
UID:934-1512432000-1522454399@www.constructivealps.net
SUMMARY:Kaslabn Radenthein/AT
DESCRIPTION:
URL:https://www.constructivealps.net/it/event/test-3/
LOCATION:Kaslabn Nockberge\, Mirnockstraße 19\, Radenthein\, Kärnten\, 9545\, Österreich
ATTACH;FMTTYPE=image/jpeg:https://www.constructivealps.net/wp-content/uploads/2019/10/AusstellungKaslabn2017-4-1024x768.jpg
END:VEVENT
END:VCALENDAR