BEGIN:VCALENDAR
VERSION:2.0
PRODID:-//Constructive Alps - ECPv5.5.0.1//NONSGML v1.0//EN
CALSCALE:GREGORIAN
METHOD:PUBLISH
X-WR-CALNAME:Constructive Alps
X-ORIGINAL-URL:https://www.constructivealps.net/it/
X-WR-CALDESC:mostra del 
BEGIN:VTIMEZONE
TZID:Europe/Berlin
BEGIN:DAYLIGHT
TZOFFSETFROM:+0100
TZOFFSETTO:+0200
TZNAME:CEST
DTSTART:20220327T010000
END:DAYLIGHT
BEGIN:STANDARD
TZOFFSETFROM:+0200
TZOFFSETTO:+0100
TZNAME:CET
DTSTART:20221030T010000
END:STANDARD
END:VTIMEZONE
BEGIN:VEVENT
DTSTART;VALUE=DATE:20221012
DTEND;VALUE=DATE:20221101
DTSTAMP:20260425T133800
CREATED:20220920T135256Z
LAST-MODIFIED:20221206T141638Z
UID:11355-1665532800-1667260799@www.constructivealps.net
SUMMARY:Bundesamt für Bauwesen und Raumordnung\, Berlin/DE
DESCRIPTION:
URL:https://www.constructivealps.net/it/mostra/bundesamt-fuer-bauwesen-und-raumordnung-berlin-de/
LOCATION:Bundesamt für Bauwesen und Raumordnung\, Berlin\, Str. des 17. Juni 112\, Berlin\, 10623\, Germany
ATTACH;FMTTYPE=image/jpeg:https://www.constructivealps.net/wp-content/uploads/2022/09/Vernissage-Ausstellung-Berlin-©-Sebastian-Held-scaled.jpg
END:VEVENT
END:VCALENDAR