BEGIN:VCALENDAR
VERSION:2.0
PRODID:-//Constructive Alps - ECPv5.5.0.1//NONSGML v1.0//EN
CALSCALE:GREGORIAN
METHOD:PUBLISH
X-WR-CALNAME:Constructive Alps
X-ORIGINAL-URL:https://www.constructivealps.net/it/
X-WR-CALDESC:mostra del 
BEGIN:VTIMEZONE
TZID:Europe/Berlin
BEGIN:DAYLIGHT
TZOFFSETFROM:+0100
TZOFFSETTO:+0200
TZNAME:CEST
DTSTART:20200329T010000
END:DAYLIGHT
BEGIN:STANDARD
TZOFFSETFROM:+0200
TZOFFSETTO:+0100
TZNAME:CET
DTSTART:20201025T010000
END:STANDARD
BEGIN:DAYLIGHT
TZOFFSETFROM:+0100
TZOFFSETTO:+0200
TZNAME:CEST
DTSTART:20210328T010000
END:DAYLIGHT
BEGIN:STANDARD
TZOFFSETFROM:+0200
TZOFFSETTO:+0100
TZNAME:CET
DTSTART:20211031T010000
END:STANDARD
END:VTIMEZONE
BEGIN:VEVENT
DTSTART;VALUE=DATE:20201207
DTEND;VALUE=DATE:20210809
DTSTAMP:20260425T150957
CREATED:20200204T140314Z
LAST-MODIFIED:20200204T140314Z
UID:5456-1607299200-1628467199@www.constructivealps.net
SUMMARY:Constructive Alps 2020\, Museo Alpino Svizzero\, Berna/CH
DESCRIPTION:
URL:https://www.constructivealps.net/it/mostra/constructive-alps-2020-museo-alpino-svizzero-berna-ch/
LOCATION:Alpines Museum der Schweiz\, Helvetiaplatz 4\, Bern\, Bern\, 3005\, Schweiz
ATTACH;FMTTYPE=image/jpeg:https://www.constructivealps.net/wp-content/uploads/2019/10/alpines-museum_constr-alpscdavidschweizer.jpg
END:VEVENT
END:VCALENDAR