BEGIN:VCALENDAR
VERSION:2.0
PRODID:-//Constructive Alps - ECPv5.5.0.1//NONSGML v1.0//EN
CALSCALE:GREGORIAN
METHOD:PUBLISH
X-WR-CALNAME:Constructive Alps
X-ORIGINAL-URL:https://www.constructivealps.net/sl/
X-WR-CALDESC:razstava Constructive Alps
BEGIN:VTIMEZONE
TZID:Europe/Berlin
BEGIN:DAYLIGHT
TZOFFSETFROM:+0100
TZOFFSETTO:+0200
TZNAME:CEST
DTSTART:20180325T010000
END:DAYLIGHT
BEGIN:STANDARD
TZOFFSETFROM:+0200
TZOFFSETTO:+0100
TZNAME:CET
DTSTART:20181028T010000
END:STANDARD
END:VTIMEZONE
BEGIN:VEVENT
DTSTART;VALUE=DATE:20180216
DTEND;VALUE=DATE:20180401
DTSTAMP:20260425T170006
CREATED:20191017T010203Z
LAST-MODIFIED:20191017T201058Z
UID:2487-1518739200-1522540799@www.constructivealps.net
SUMMARY:Associazione Architetti Camuni/IT
DESCRIPTION:
URL:https://www.constructivealps.net/sl/event/associazione-architetti-camuni-it/
LOCATION:Associazione Architetti Camuni\, Piazza Giacomini 2\, Cividate Camuno BS\, 25080\, Italien
ATTACH;FMTTYPE=image/jpeg:https://www.constructivealps.net/wp-content/uploads/2019/10/img_4256.jpg
END:VEVENT
END:VCALENDAR