BEGIN:VCALENDAR
VERSION:2.0
PRODID:-//Constructive Alps - ECPv5.5.0.1//NONSGML v1.0//EN
CALSCALE:GREGORIAN
METHOD:PUBLISH
X-WR-CALNAME:Constructive Alps
X-ORIGINAL-URL:https://www.constructivealps.net/sl/
X-WR-CALDESC:razstava Constructive Alps
BEGIN:VTIMEZONE
TZID:Europe/Berlin
BEGIN:DAYLIGHT
TZOFFSETFROM:+0100
TZOFFSETTO:+0200
TZNAME:CEST
DTSTART:20180325T010000
END:DAYLIGHT
BEGIN:STANDARD
TZOFFSETFROM:+0200
TZOFFSETTO:+0100
TZNAME:CET
DTSTART:20181028T010000
END:STANDARD
END:VTIMEZONE
BEGIN:VEVENT
DTSTART;VALUE=DATE:20180401
DTEND;VALUE=DATE:20180516
DTSTAMP:20260425T170254
CREATED:20191017T111949Z
LAST-MODIFIED:20191017T111949Z
UID:2496-1522540800-1526428799@www.constructivealps.net
SUMMARY:Bauakademie in Salzburg/AT
DESCRIPTION:
URL:https://www.constructivealps.net/sl/event/bauakademie-in-salzburg-at/
LOCATION:BAUAkademie Lehrbauhof\, Moosstrasse 197\, Salzburg\, Salzburg\, 5020\, Österreich
ATTACH;FMTTYPE=image/jpeg:https://www.constructivealps.net/wp-content/uploads/2019/10/IP3A1645.jpg
END:VEVENT
END:VCALENDAR