BEGIN:VCALENDAR
VERSION:2.0
PRODID:-//Constructive Alps - ECPv5.5.0.1//NONSGML v1.0//EN
CALSCALE:GREGORIAN
METHOD:PUBLISH
X-WR-CALNAME:Constructive Alps
X-ORIGINAL-URL:https://www.constructivealps.net/sl/
X-WR-CALDESC:razstava Constructive Alps
BEGIN:VTIMEZONE
TZID:Europe/Berlin
BEGIN:DAYLIGHT
TZOFFSETFROM:+0100
TZOFFSETTO:+0200
TZNAME:CEST
DTSTART:20220327T010000
END:DAYLIGHT
BEGIN:STANDARD
TZOFFSETFROM:+0200
TZOFFSETTO:+0100
TZNAME:CET
DTSTART:20221030T010000
END:STANDARD
END:VTIMEZONE
BEGIN:VEVENT
DTSTART;VALUE=DATE:20220615
DTEND;VALUE=DATE:20220901
DTSTAMP:20260425T170302
CREATED:20220607T120420Z
LAST-MODIFIED:20220607T120908Z
UID:10775-1655251200-1661990399@www.constructivealps.net
SUMMARY:Center Triglavskega narodnega parka Bohinj (TNPO Bohinj)
DESCRIPTION:
URL:https://www.constructivealps.net/sl/event/center-triglavskega-narodnega-parka-bohinj-tnpo-bohinj/
ATTACH;FMTTYPE=image/jpeg:https://www.constructivealps.net/wp-content/uploads/2022/06/tolmin2.jpg
END:VEVENT
END:VCALENDAR