BEGIN:VCALENDAR
VERSION:2.0
PRODID:-//Constructive Alps - ECPv5.5.0.1//NONSGML v1.0//EN
CALSCALE:GREGORIAN
METHOD:PUBLISH
X-WR-CALNAME:Constructive Alps
X-ORIGINAL-URL:https://www.constructivealps.net/sl/
X-WR-CALDESC:razstava Constructive Alps
BEGIN:VTIMEZONE
TZID:Europe/Berlin
BEGIN:DAYLIGHT
TZOFFSETFROM:+0100
TZOFFSETTO:+0200
TZNAME:CEST
DTSTART:20180325T010000
END:DAYLIGHT
BEGIN:STANDARD
TZOFFSETFROM:+0200
TZOFFSETTO:+0100
TZNAME:CET
DTSTART:20181028T010000
END:STANDARD
END:VTIMEZONE
BEGIN:VEVENT
DTSTART;VALUE=DATE:20180618
DTEND;VALUE=DATE:20180626
DTSTAMP:20260425T170024
CREATED:20191018T115947Z
LAST-MODIFIED:20191018T115947Z
UID:2654-1529280000-1529971199@www.constructivealps.net
SUMMARY:Festivalna Dvorana in Bled/SL
DESCRIPTION:
URL:https://www.constructivealps.net/sl/event/festivalna-dvorana-in-bled-sl/
LOCATION:Festivalna Dvorana\, Cesta svobode 11\, Bled\, 4260\, Slovenien
ATTACH;FMTTYPE=image/jpeg:https://www.constructivealps.net/wp-content/uploads/2019/10/©-Tourism-Office-Bled-2.jpg
END:VEVENT
END:VCALENDAR