BEGIN:VCALENDAR
VERSION:2.0
PRODID:-//Constructive Alps - ECPv5.5.0.1//NONSGML v1.0//EN
CALSCALE:GREGORIAN
METHOD:PUBLISH
X-WR-CALNAME:Constructive Alps
X-ORIGINAL-URL:https://www.constructivealps.net/sl/
X-WR-CALDESC:razstava Constructive Alps
BEGIN:VTIMEZONE
TZID:Europe/Berlin
BEGIN:DAYLIGHT
TZOFFSETFROM:+0100
TZOFFSETTO:+0200
TZNAME:CEST
DTSTART:20230326T010000
END:DAYLIGHT
BEGIN:STANDARD
TZOFFSETFROM:+0200
TZOFFSETTO:+0100
TZNAME:CET
DTSTART:20231029T010000
END:STANDARD
END:VTIMEZONE
BEGIN:VEVENT
DTSTART;VALUE=DATE:20230830
DTEND;VALUE=DATE:20230909
DTSTAMP:20260425T150825
CREATED:20230726T064125Z
LAST-MODIFIED:20230726T064224Z
UID:11724-1693353600-1694217599@www.constructivealps.net
SUMMARY:Innenhof Museumsquartier Wien (c) Hertha Hurnaus
DESCRIPTION:
URL:https://www.constructivealps.net/sl/event/innenhof-museumsquartier-wien/
LOCATION:Innenhof Museumsquartier Wien\, Wien\, Österreich
ATTACH;FMTTYPE=image/jpeg:https://www.constructivealps.net/wp-content/uploads/2023/07/MQ_Haupthof_2__c__Hertha_Hurnaus-scaled.jpg
END:VEVENT
END:VCALENDAR