BEGIN:VCALENDAR
VERSION:2.0
PRODID:-//Constructive Alps - ECPv5.5.0.1//NONSGML v1.0//EN
CALSCALE:GREGORIAN
METHOD:PUBLISH
X-WR-CALNAME:Constructive Alps
X-ORIGINAL-URL:https://www.constructivealps.net/sl/
X-WR-CALDESC:razstava Constructive Alps
BEGIN:VTIMEZONE
TZID:Europe/Berlin
BEGIN:DAYLIGHT
TZOFFSETFROM:+0100
TZOFFSETTO:+0200
TZNAME:CEST
DTSTART:20230326T010000
END:DAYLIGHT
BEGIN:STANDARD
TZOFFSETFROM:+0200
TZOFFSETTO:+0100
TZNAME:CET
DTSTART:20231029T010000
END:STANDARD
END:VTIMEZONE
BEGIN:VEVENT
DTSTART;VALUE=DATE:20230614
DTEND;VALUE=DATE:20230707
DTSTAMP:20260425T165814
CREATED:20230627T095243Z
LAST-MODIFIED:20230627T095243Z
UID:11717-1686700800-1688687999@www.constructivealps.net
SUMMARY:Volkshochschule Rosenheim
DESCRIPTION:
URL:https://www.constructivealps.net/sl/event/volkshochschule-rosenheim/
LOCATION:Volkshochschule Rosenheim\, Stollstrasse 1\, Rosenheim\, 83022\, Deutschland
ATTACH;FMTTYPE=image/jpeg:https://www.constructivealps.net/wp-content/uploads/2022/12/IBAR-Ausstellung-Okt.-22-10-scaled.jpg
END:VEVENT
END:VCALENDAR